BEGIN:VCALENDAR
VERSION:2.0
PRODID:-//Moonflower Alchemy - ECPv6.3.5//NONSGML v1.0//EN
CALSCALE:GREGORIAN
METHOD:PUBLISH
X-ORIGINAL-URL:https://moonflower-alchemy.com
X-WR-CALDESC:Events for Moonflower Alchemy
REFRESH-INTERVAL;VALUE=DURATION:PT1H
X-Robots-Tag:noindex
X-PUBLISHED-TTL:PT1H
BEGIN:VTIMEZONE
TZID:America/Los_Angeles
BEGIN:DAYLIGHT
TZOFFSETFROM:-0800
TZOFFSETTO:-0700
TZNAME:PDT
DTSTART:20240310T100000
END:DAYLIGHT
BEGIN:STANDARD
TZOFFSETFROM:-0700
TZOFFSETTO:-0800
TZNAME:PST
DTSTART:20241103T090000
END:STANDARD
END:VTIMEZONE
BEGIN:VEVENT
DTSTART;VALUE=DATE:20240830
DTEND;VALUE=DATE:20240903
DTSTAMP:20260423T151326
CREATED:20240326T063224Z
LAST-MODIFIED:20240326T070247Z
UID:359-1724976000-1725321599@moonflower-alchemy.com
SUMMARY:Tortuga Nights (anticipated to vend)
DESCRIPTION:Prior registration required.
URL:https://moonflower-alchemy.com/event/tortuga-nights-anticipated-to-vend/
LOCATION:OR
CATEGORIES:Pirate
END:VEVENT
END:VCALENDAR