BEGIN:VCALENDAR
VERSION:2.0
PRODID:-//Moonflower Alchemy - ECPv6.3.5//NONSGML v1.0//EN
CALSCALE:GREGORIAN
METHOD:PUBLISH
X-WR-CALNAME:Moonflower Alchemy
X-ORIGINAL-URL:https://moonflower-alchemy.com
X-WR-CALDESC:Events for Moonflower Alchemy
REFRESH-INTERVAL;VALUE=DURATION:PT1H
X-Robots-Tag:noindex
X-PUBLISHED-TTL:PT1H
BEGIN:VTIMEZONE
TZID:America/Los_Angeles
BEGIN:DAYLIGHT
TZOFFSETFROM:-0800
TZOFFSETTO:-0700
TZNAME:PDT
DTSTART:20240310T100000
END:DAYLIGHT
BEGIN:STANDARD
TZOFFSETFROM:-0700
TZOFFSETTO:-0800
TZNAME:PST
DTSTART:20241103T090000
END:STANDARD
END:VTIMEZONE
BEGIN:VEVENT
DTSTART;TZID=America/Los_Angeles:20240323T110000
DTEND;TZID=America/Los_Angeles:20240323T170000
DTSTAMP:20260421T185958
CREATED:20240326T043453Z
LAST-MODIFIED:20240326T070329Z
UID:332-1711191600-1711213200@moonflower-alchemy.com
SUMMARY:SisterSpirit's PaganFaire 2024
DESCRIPTION:
URL:https://moonflower-alchemy.com/event/sisterspirits-paganfaire-2024/
LOCATION:Oaks Amusement Park Dance Pavilion\, 7805 SE Oaks Park Wy\, Portland\, OR\, 97202\, United States
CATEGORIES:Pagan
END:VEVENT
END:VCALENDAR