BEGIN:VCALENDAR
VERSION:2.0
PRODID:-//Moonflower Alchemy - ECPv6.3.5//NONSGML v1.0//EN
CALSCALE:GREGORIAN
METHOD:PUBLISH
X-ORIGINAL-URL:https://moonflower-alchemy.com
X-WR-CALDESC:Events for Moonflower Alchemy
REFRESH-INTERVAL;VALUE=DURATION:PT1H
X-Robots-Tag:noindex
X-PUBLISHED-TTL:PT1H
BEGIN:VTIMEZONE
TZID:America/Los_Angeles
BEGIN:DAYLIGHT
TZOFFSETFROM:-0800
TZOFFSETTO:-0700
TZNAME:PDT
DTSTART:20240310T100000
END:DAYLIGHT
BEGIN:STANDARD
TZOFFSETFROM:-0700
TZOFFSETTO:-0800
TZNAME:PST
DTSTART:20241103T090000
END:STANDARD
END:VTIMEZONE
BEGIN:VEVENT
DTSTART;TZID=America/Los_Angeles:20240804T103000
DTEND;TZID=America/Los_Angeles:20240804T180000
DTSTAMP:20260423T165305
CREATED:20240326T062452Z
LAST-MODIFIED:20240326T070307Z
UID:349-1722767400-1722794400@moonflower-alchemy.com
SUMMARY:Eugene Pagan Pride (anticipated to vend)
DESCRIPTION:Free event!
URL:https://moonflower-alchemy.com/event/eugene-pagan-pride-anticipated-to-vend/
LOCATION:Alton Baker Park\, 200 Day Island Rd.\, Eugene\, OR\, 97401\, United States
CATEGORIES:Pagan
END:VEVENT
BEGIN:VEVENT
DTSTART;TZID=America/Los_Angeles:20240810T100000
DTEND;TZID=America/Los_Angeles:20240810T190000
DTSTAMP:20260423T165305
CREATED:20240326T062642Z
LAST-MODIFIED:20240326T070300Z
UID:352-1723284000-1723316400@moonflower-alchemy.com
SUMMARY:Eugene Pride (anticipated to vend)
DESCRIPTION:
URL:https://moonflower-alchemy.com/event/eugene-pride-anticipated-to-vend/
LOCATION:Alton Baker Park\, 200 Day Island Rd.\, Eugene\, OR\, 97401\, United States
CATEGORIES:LGBTQIA+ Pride
END:VEVENT
BEGIN:VEVENT
DTSTART;TZID=America/Los_Angeles:20240824T100000
DTEND;TZID=America/Los_Angeles:20240824T180000
DTSTAMP:20260423T165305
CREATED:20240326T062910Z
LAST-MODIFIED:20240326T070254Z
UID:354-1724493600-1724522400@moonflower-alchemy.com
SUMMARY:Celtic Fantasy Faire PDX (anticipated to vend)
DESCRIPTION:
URL:https://moonflower-alchemy.com/event/celtic-fantasy-faire-pdx-anticipated-to-vend/
LOCATION:Shute Park\, 750 SE 8th Ave.\, Hillsboro\, OR\, 97123\, United States
CATEGORIES:Pagan
END:VEVENT
BEGIN:VEVENT
DTSTART;VALUE=DATE:20240830
DTEND;VALUE=DATE:20240903
DTSTAMP:20260423T165305
CREATED:20240326T063224Z
LAST-MODIFIED:20240326T070247Z
UID:359-1724976000-1725321599@moonflower-alchemy.com
SUMMARY:Tortuga Nights (anticipated to vend)
DESCRIPTION:Prior registration required.
URL:https://moonflower-alchemy.com/event/tortuga-nights-anticipated-to-vend/
LOCATION:OR
CATEGORIES:Pirate
END:VEVENT
BEGIN:VEVENT
DTSTART;TZID=America/Los_Angeles:20240908T100000
DTEND;TZID=America/Los_Angeles:20240908T170000
DTSTAMP:20260423T165305
CREATED:20240326T063644Z
LAST-MODIFIED:20240326T070240Z
UID:361-1725789600-1725814800@moonflower-alchemy.com
SUMMARY:Columbia-Willamette Pagan Pride Day (anticipated to vend)
DESCRIPTION:
URL:https://moonflower-alchemy.com/event/columbia-willamette-pagan-pride-day-anticipated-to-vend/
LOCATION:Oaks Amusement Park\, 7805 SE Oaks Park Way\, Portland\, OR\, 97202\, United States
CATEGORIES:Pagan
END:VEVENT
END:VCALENDAR